BEGIN:VCALENDAR
VERSION:2.0
PRODID:-//La Crosse Skyrockers - ECPv6.15.17.1//NONSGML v1.0//EN
CALSCALE:GREGORIAN
METHOD:PUBLISH
X-WR-CALNAME:La Crosse Skyrockers
X-ORIGINAL-URL:https://skyrockers.org
X-WR-CALDESC:Events for La Crosse Skyrockers
REFRESH-INTERVAL;VALUE=DURATION:PT1H
X-Robots-Tag:noindex
X-PUBLISHED-TTL:PT1H
BEGIN:VTIMEZONE
TZID:America/Chicago
BEGIN:DAYLIGHT
TZOFFSETFROM:-0600
TZOFFSETTO:-0500
TZNAME:CDT
DTSTART:20230312T080000
END:DAYLIGHT
BEGIN:STANDARD
TZOFFSETFROM:-0500
TZOFFSETTO:-0600
TZNAME:CST
DTSTART:20231105T070000
END:STANDARD
BEGIN:DAYLIGHT
TZOFFSETFROM:-0600
TZOFFSETTO:-0500
TZNAME:CDT
DTSTART:20240310T080000
END:DAYLIGHT
BEGIN:STANDARD
TZOFFSETFROM:-0500
TZOFFSETTO:-0600
TZNAME:CST
DTSTART:20241103T070000
END:STANDARD
BEGIN:DAYLIGHT
TZOFFSETFROM:-0600
TZOFFSETTO:-0500
TZNAME:CDT
DTSTART:20250309T080000
END:DAYLIGHT
BEGIN:STANDARD
TZOFFSETFROM:-0500
TZOFFSETTO:-0600
TZNAME:CST
DTSTART:20251102T070000
END:STANDARD
END:VTIMEZONE
BEGIN:VEVENT
DTSTART;VALUE=DATE:20241221
DTEND;VALUE=DATE:20241222
DTSTAMP:20260421T231705
CREATED:20241117T201037Z
LAST-MODIFIED:20241117T201037Z
UID:1551-1734739200-1734825599@skyrockers.org
SUMMARY:Pettibone Park
DESCRIPTION:
URL:https://skyrockers.org/event/pettibone-park-12/
LOCATION:Pettibone Park\, 700 N Pettibone Dr\, La Crosse\, WI\, 54601\, United States
CATEGORIES:Countdown - Grandad Bluff
END:VEVENT
BEGIN:VEVENT
DTSTART;TZID=America/Chicago:20241221T180000
DTEND;TZID=America/Chicago:20241221T180000
DTSTAMP:20260421T231705
CREATED:20241215T225603Z
LAST-MODIFIED:20241215T225603Z
UID:1637-1734804000-1734804000@skyrockers.org
SUMMARY:Shen
DESCRIPTION:2 shells
URL:https://skyrockers.org/event/shen/
LOCATION:Pettibone Park\, 700 N Pettibone Dr\, La Crosse\, WI\, 54601\, United States
CATEGORIES:Countdown - Grandad Bluff
END:VEVENT
BEGIN:VEVENT
DTSTART;TZID=America/Chicago:20241221T180200
DTEND;TZID=America/Chicago:20241221T180200
DTSTAMP:20260421T231705
CREATED:20241216T154922Z
LAST-MODIFIED:20241216T154922Z
UID:1650-1734804120-1734804120@skyrockers.org
SUMMARY:Hardison
DESCRIPTION:
URL:https://skyrockers.org/event/hardison/
LOCATION:Pettibone Park\, 700 N Pettibone Dr\, La Crosse\, WI\, 54601\, United States
CATEGORIES:Countdown - Grandad Bluff
END:VEVENT
END:VCALENDAR