BEGIN:VCALENDAR
VERSION:2.0
PRODID:-//La Crosse Skyrockers - ECPv6.15.17.1//NONSGML v1.0//EN
CALSCALE:GREGORIAN
METHOD:PUBLISH
X-WR-CALNAME:La Crosse Skyrockers
X-ORIGINAL-URL:https://skyrockers.org
X-WR-CALDESC:Events for La Crosse Skyrockers
REFRESH-INTERVAL;VALUE=DURATION:PT1H
X-Robots-Tag:noindex
X-PUBLISHED-TTL:PT1H
BEGIN:VTIMEZONE
TZID:America/Chicago
BEGIN:DAYLIGHT
TZOFFSETFROM:-0600
TZOFFSETTO:-0500
TZNAME:CDT
DTSTART:20230312T080000
END:DAYLIGHT
BEGIN:STANDARD
TZOFFSETFROM:-0500
TZOFFSETTO:-0600
TZNAME:CST
DTSTART:20231105T070000
END:STANDARD
BEGIN:DAYLIGHT
TZOFFSETFROM:-0600
TZOFFSETTO:-0500
TZNAME:CDT
DTSTART:20240310T080000
END:DAYLIGHT
BEGIN:STANDARD
TZOFFSETFROM:-0500
TZOFFSETTO:-0600
TZNAME:CST
DTSTART:20241103T070000
END:STANDARD
BEGIN:DAYLIGHT
TZOFFSETFROM:-0600
TZOFFSETTO:-0500
TZNAME:CDT
DTSTART:20250309T080000
END:DAYLIGHT
BEGIN:STANDARD
TZOFFSETFROM:-0500
TZOFFSETTO:-0600
TZNAME:CST
DTSTART:20251102T070000
END:STANDARD
END:VTIMEZONE
BEGIN:VEVENT
DTSTART;VALUE=DATE:20241222
DTEND;VALUE=DATE:20241223
DTSTAMP:20260421T231511
CREATED:20241117T201239Z
LAST-MODIFIED:20241117T201627Z
UID:1553-1734825600-1734911999@skyrockers.org
SUMMARY:Grandad Bluff Park
DESCRIPTION:
URL:https://skyrockers.org/event/grandad-bluff-park-10/
LOCATION:Granddad Bluff Park\, 3020 Grandad Bluff Rd\, La Crosse\, WI\, 54601\, United States
CATEGORIES:Countdown - Grandad Bluff
END:VEVENT
BEGIN:VEVENT
DTSTART;TZID=America/Chicago:20241222T180000
DTEND;TZID=America/Chicago:20241222T180000
DTSTAMP:20260421T231511
CREATED:20241205T030042Z
LAST-MODIFIED:20241220T232559Z
UID:1612-1734890400-1734890400@skyrockers.org
SUMMARY:MVARA
DESCRIPTION:8 Shots
URL:https://skyrockers.org/event/mvara/
LOCATION:Granddad Bluff Park\, 3020 Grandad Bluff Rd\, La Crosse\, WI\, 54601\, United States
CATEGORIES:Countdown - Grandad Bluff
END:VEVENT
BEGIN:VEVENT
DTSTART;TZID=America/Chicago:20241222T180200
DTEND;TZID=America/Chicago:20241222T180200
DTSTAMP:20260421T231511
CREATED:20241206T214412Z
LAST-MODIFIED:20241206T214718Z
UID:1623-1734890520-1734890520@skyrockers.org
SUMMARY:Fisher
DESCRIPTION:4 shots
URL:https://skyrockers.org/event/fisher/
LOCATION:Granddad Bluff Park\, 3020 Grandad Bluff Rd\, La Crosse\, WI\, 54601\, United States
CATEGORIES:Countdown - Grandad Bluff
END:VEVENT
BEGIN:VEVENT
DTSTART;TZID=America/Chicago:20241222T180400
DTEND;TZID=America/Chicago:20241222T180400
DTSTAMP:20260421T231511
CREATED:20241208T211235Z
LAST-MODIFIED:20241208T211235Z
UID:1630-1734890640-1734890640@skyrockers.org
SUMMARY:Klich
DESCRIPTION:6 shots
URL:https://skyrockers.org/event/klich/
LOCATION:Granddad Bluff Park\, 3020 Grandad Bluff Rd\, La Crosse\, WI\, 54601\, United States
CATEGORIES:Countdown - Grandad Bluff
END:VEVENT
BEGIN:VEVENT
DTSTART;TZID=America/Chicago:20241222T180600
DTEND;TZID=America/Chicago:20241222T180600
DTSTAMP:20260421T231511
CREATED:20241216T154614Z
LAST-MODIFIED:20241219T033404Z
UID:1648-1734890760-1734890760@skyrockers.org
SUMMARY:DeNault
DESCRIPTION:5 shots
URL:https://skyrockers.org/event/denault/
LOCATION:Granddad Bluff Park\, 3020 Grandad Bluff Rd\, La Crosse\, WI\, 54601\, United States
CATEGORIES:Countdown - Grandad Bluff
END:VEVENT
END:VCALENDAR