BEGIN:VCALENDAR
VERSION:2.0
PRODID:-//La Crosse Skyrockers - ECPv6.15.17.1//NONSGML v1.0//EN
CALSCALE:GREGORIAN
METHOD:PUBLISH
X-WR-CALNAME:La Crosse Skyrockers
X-ORIGINAL-URL:https://skyrockers.org
X-WR-CALDESC:Events for La Crosse Skyrockers
REFRESH-INTERVAL;VALUE=DURATION:PT1H
X-Robots-Tag:noindex
X-PUBLISHED-TTL:PT1H
BEGIN:VTIMEZONE
TZID:America/Chicago
BEGIN:DAYLIGHT
TZOFFSETFROM:-0600
TZOFFSETTO:-0500
TZNAME:CDT
DTSTART:20230312T080000
END:DAYLIGHT
BEGIN:STANDARD
TZOFFSETFROM:-0500
TZOFFSETTO:-0600
TZNAME:CST
DTSTART:20231105T070000
END:STANDARD
BEGIN:DAYLIGHT
TZOFFSETFROM:-0600
TZOFFSETTO:-0500
TZNAME:CDT
DTSTART:20240310T080000
END:DAYLIGHT
BEGIN:STANDARD
TZOFFSETFROM:-0500
TZOFFSETTO:-0600
TZNAME:CST
DTSTART:20241103T070000
END:STANDARD
BEGIN:DAYLIGHT
TZOFFSETFROM:-0600
TZOFFSETTO:-0500
TZNAME:CDT
DTSTART:20250309T080000
END:DAYLIGHT
BEGIN:STANDARD
TZOFFSETFROM:-0500
TZOFFSETTO:-0600
TZNAME:CST
DTSTART:20251102T070000
END:STANDARD
END:VTIMEZONE
BEGIN:VEVENT
DTSTART;VALUE=DATE:20241227
DTEND;VALUE=DATE:20241228
DTSTAMP:20260421T231614
CREATED:20241117T201439Z
LAST-MODIFIED:20241117T201653Z
UID:1557-1735257600-1735343999@skyrockers.org
SUMMARY:Grandad Bluff Park
DESCRIPTION:
URL:https://skyrockers.org/event/grandad-bluff-park-11/
LOCATION:Granddad Bluff Park\, 3020 Grandad Bluff Rd\, La Crosse\, WI\, 54601\, United States
CATEGORIES:Countdown - Grandad Bluff
END:VEVENT
BEGIN:VEVENT
DTSTART;TZID=America/Chicago:20241227T180000
DTEND;TZID=America/Chicago:20241227T180000
DTSTAMP:20260421T231614
CREATED:20241123T153836Z
LAST-MODIFIED:20241210T162114Z
UID:1589-1735322400-1735322400@skyrockers.org
SUMMARY:Johnson/McCormick
DESCRIPTION:4 shots
URL:https://skyrockers.org/event/johnson-mccormick/
LOCATION:Granddad Bluff Park\, 3020 Grandad Bluff Rd\, La Crosse\, WI\, 54601\, United States
CATEGORIES:Countdown - Grandad Bluff
END:VEVENT
BEGIN:VEVENT
DTSTART;TZID=America/Chicago:20241227T180200
DTEND;TZID=America/Chicago:20241227T180200
DTSTAMP:20260421T231614
CREATED:20241210T161936Z
LAST-MODIFIED:20241210T161936Z
UID:1632-1735322520-1735322520@skyrockers.org
SUMMARY:Clason
DESCRIPTION:2 shots
URL:https://skyrockers.org/event/clason/
LOCATION:Granddad Bluff Park\, 3020 Grandad Bluff Rd\, La Crosse\, WI\, 54601\, United States
CATEGORIES:Countdown - Grandad Bluff
END:VEVENT
BEGIN:VEVENT
DTSTART;TZID=America/Chicago:20241227T180400
DTEND;TZID=America/Chicago:20241227T180400
DTSTAMP:20260421T231614
CREATED:20241222T180849Z
LAST-MODIFIED:20241222T180849Z
UID:1664-1735322640-1735322640@skyrockers.org
SUMMARY:Lyon
DESCRIPTION:8+ shots
URL:https://skyrockers.org/event/lyon/
LOCATION:Granddad Bluff Park\, 3020 Grandad Bluff Rd\, La Crosse\, WI\, 54601\, United States
CATEGORIES:Countdown - Grandad Bluff
END:VEVENT
END:VCALENDAR