BEGIN:VCALENDAR
VERSION:2.0
PRODID:-//La Crosse Skyrockers - ECPv6.15.17.1//NONSGML v1.0//EN
CALSCALE:GREGORIAN
METHOD:PUBLISH
X-ORIGINAL-URL:https://skyrockers.org
X-WR-CALDESC:Events for La Crosse Skyrockers
REFRESH-INTERVAL;VALUE=DURATION:PT1H
X-Robots-Tag:noindex
X-PUBLISHED-TTL:PT1H
BEGIN:VTIMEZONE
TZID:America/Chicago
BEGIN:DAYLIGHT
TZOFFSETFROM:-0600
TZOFFSETTO:-0500
TZNAME:CDT
DTSTART:20230312T080000
END:DAYLIGHT
BEGIN:STANDARD
TZOFFSETFROM:-0500
TZOFFSETTO:-0600
TZNAME:CST
DTSTART:20231105T070000
END:STANDARD
BEGIN:DAYLIGHT
TZOFFSETFROM:-0600
TZOFFSETTO:-0500
TZNAME:CDT
DTSTART:20240310T080000
END:DAYLIGHT
BEGIN:STANDARD
TZOFFSETFROM:-0500
TZOFFSETTO:-0600
TZNAME:CST
DTSTART:20241103T070000
END:STANDARD
BEGIN:DAYLIGHT
TZOFFSETFROM:-0600
TZOFFSETTO:-0500
TZNAME:CDT
DTSTART:20250309T080000
END:DAYLIGHT
BEGIN:STANDARD
TZOFFSETFROM:-0500
TZOFFSETTO:-0600
TZNAME:CST
DTSTART:20251102T070000
END:STANDARD
END:VTIMEZONE
BEGIN:VEVENT
DTSTART;VALUE=DATE:20241229
DTEND;VALUE=DATE:20241230
DTSTAMP:20260421T214433
CREATED:20241117T201906Z
LAST-MODIFIED:20241117T201906Z
UID:1563-1735430400-1735516799@skyrockers.org
SUMMARY:Grandad Bluff Park
DESCRIPTION:
URL:https://skyrockers.org/event/grandad-bluff-park-12/
LOCATION:Granddad Bluff Park\, 3020 Grandad Bluff Rd\, La Crosse\, WI\, 54601\, United States
CATEGORIES:Countdown - Grandad Bluff
END:VEVENT
BEGIN:VEVENT
DTSTART;TZID=America/Chicago:20241229T180000
DTEND;TZID=America/Chicago:20241229T180000
DTSTAMP:20260421T214433
CREATED:20241208T015329Z
LAST-MODIFIED:20241208T015839Z
UID:1625-1735495200-1735495200@skyrockers.org
SUMMARY:Schuttenhelm
DESCRIPTION:2 shots
URL:https://skyrockers.org/event/schuttenhelm/
LOCATION:Granddad Bluff Park\, 3020 Grandad Bluff Rd\, La Crosse\, WI\, 54601\, United States
CATEGORIES:Countdown - Grandad Bluff
END:VEVENT
BEGIN:VEVENT
DTSTART;TZID=America/Chicago:20241229T180300
DTEND;TZID=America/Chicago:20241229T180300
DTSTAMP:20260421T214433
CREATED:20241212T024855Z
LAST-MODIFIED:20241212T024855Z
UID:1634-1735495380-1735495380@skyrockers.org
SUMMARY:Sampson
DESCRIPTION:8+
URL:https://skyrockers.org/event/sampson/
LOCATION:Granddad Bluff Park\, 3020 Grandad Bluff Rd\, La Crosse\, WI\, 54601\, United States
CATEGORIES:Countdown - Grandad Bluff
END:VEVENT
BEGIN:VEVENT
DTSTART;TZID=America/Chicago:20241229T180400
DTEND;TZID=America/Chicago:20241229T180400
DTSTAMP:20260421T214433
CREATED:20241222T193136Z
LAST-MODIFIED:20241222T193232Z
UID:1668-1735495440-1735495440@skyrockers.org
SUMMARY:Ma
DESCRIPTION:2 shots
URL:https://skyrockers.org/event/ma/
LOCATION:Granddad Bluff Park\, 3020 Grandad Bluff Rd\, La Crosse\, WI\, 54601\, United States
CATEGORIES:Countdown - Grandad Bluff
END:VEVENT
END:VCALENDAR