BEGIN:VCALENDAR
VERSION:2.0
PRODID:-//La Crosse Skyrockers - ECPv6.15.17.1//NONSGML v1.0//EN
CALSCALE:GREGORIAN
METHOD:PUBLISH
X-ORIGINAL-URL:https://skyrockers.org
X-WR-CALDESC:Events for La Crosse Skyrockers
REFRESH-INTERVAL;VALUE=DURATION:PT1H
X-Robots-Tag:noindex
X-PUBLISHED-TTL:PT1H
BEGIN:VTIMEZONE
TZID:America/Chicago
BEGIN:DAYLIGHT
TZOFFSETFROM:-0600
TZOFFSETTO:-0500
TZNAME:CDT
DTSTART:20240310T080000
END:DAYLIGHT
BEGIN:STANDARD
TZOFFSETFROM:-0500
TZOFFSETTO:-0600
TZNAME:CST
DTSTART:20241103T070000
END:STANDARD
BEGIN:DAYLIGHT
TZOFFSETFROM:-0600
TZOFFSETTO:-0500
TZNAME:CDT
DTSTART:20250309T080000
END:DAYLIGHT
BEGIN:STANDARD
TZOFFSETFROM:-0500
TZOFFSETTO:-0600
TZNAME:CST
DTSTART:20251102T070000
END:STANDARD
BEGIN:DAYLIGHT
TZOFFSETFROM:-0600
TZOFFSETTO:-0500
TZNAME:CDT
DTSTART:20260308T080000
END:DAYLIGHT
BEGIN:STANDARD
TZOFFSETFROM:-0500
TZOFFSETTO:-0600
TZNAME:CST
DTSTART:20261101T070000
END:STANDARD
END:VTIMEZONE
BEGIN:VEVENT
DTSTART;VALUE=DATE:20251205
DTEND;VALUE=DATE:20251206
DTSTAMP:20260419T075634
CREATED:20251120T204304Z
LAST-MODIFIED:20251120T204304Z
UID:1745-1764892800-1764979199@skyrockers.org
SUMMARY:Grandad Bluff
DESCRIPTION:
URL:https://skyrockers.org/event/grandad-bluff-3/
LOCATION:Granddad Bluff Park\, 3020 Grandad Bluff Rd\, La Crosse\, WI\, 54601\, United States
CATEGORIES:Countdown - Grandad Bluff
END:VEVENT
BEGIN:VEVENT
DTSTART;TZID=America/Chicago:20251205T180000
DTEND;TZID=America/Chicago:20251205T180000
DTSTAMP:20260419T075634
CREATED:20251204T175120Z
LAST-MODIFIED:20251204T175214Z
UID:1837-1764957600-1764957600@skyrockers.org
SUMMARY:Sampson - Bluffside Bunch
DESCRIPTION:4 shots
URL:https://skyrockers.org/event/sampson-bluffside/
LOCATION:Granddad Bluff Park\, 3020 Grandad Bluff Rd\, La Crosse\, WI\, 54601\, United States
CATEGORIES:Countdown - Grandad Bluff
END:VEVENT
END:VCALENDAR