BEGIN:VCALENDAR
VERSION:2.0
PRODID:-//La Crosse Skyrockers - ECPv6.15.17.1//NONSGML v1.0//EN
CALSCALE:GREGORIAN
METHOD:PUBLISH
X-ORIGINAL-URL:https://skyrockers.org
X-WR-CALDESC:Events for La Crosse Skyrockers
REFRESH-INTERVAL;VALUE=DURATION:PT1H
X-Robots-Tag:noindex
X-PUBLISHED-TTL:PT1H
BEGIN:VTIMEZONE
TZID:America/Chicago
BEGIN:DAYLIGHT
TZOFFSETFROM:-0600
TZOFFSETTO:-0500
TZNAME:CDT
DTSTART:20230312T080000
END:DAYLIGHT
BEGIN:STANDARD
TZOFFSETFROM:-0500
TZOFFSETTO:-0600
TZNAME:CST
DTSTART:20231105T070000
END:STANDARD
BEGIN:DAYLIGHT
TZOFFSETFROM:-0600
TZOFFSETTO:-0500
TZNAME:CDT
DTSTART:20240310T080000
END:DAYLIGHT
BEGIN:STANDARD
TZOFFSETFROM:-0500
TZOFFSETTO:-0600
TZNAME:CST
DTSTART:20241103T070000
END:STANDARD
BEGIN:DAYLIGHT
TZOFFSETFROM:-0600
TZOFFSETTO:-0500
TZNAME:CDT
DTSTART:20250309T080000
END:DAYLIGHT
BEGIN:STANDARD
TZOFFSETFROM:-0500
TZOFFSETTO:-0600
TZNAME:CST
DTSTART:20251102T070000
END:STANDARD
END:VTIMEZONE
BEGIN:VEVENT
DTSTART;VALUE=DATE:20241211
DTEND;VALUE=DATE:20241212
DTSTAMP:20260421T051738
CREATED:20241117T195901Z
LAST-MODIFIED:20241117T195901Z
UID:1531-1733875200-1733961599@skyrockers.org
SUMMARY:Pettibone Park
DESCRIPTION:
URL:https://skyrockers.org/event/pettibone-park-6/
LOCATION:Pettibone Park\, 700 N Pettibone Dr\, La Crosse\, WI\, 54601\, United States
CATEGORIES:Countdown - Grandad Bluff
END:VEVENT
BEGIN:VEVENT
DTSTART;VALUE=DATE:20241210
DTEND;VALUE=DATE:20241211
DTSTAMP:20260421T051738
CREATED:20241117T195801Z
LAST-MODIFIED:20241117T195801Z
UID:1529-1733788800-1733875199@skyrockers.org
SUMMARY:Grandad Bluff Park
DESCRIPTION:
URL:https://skyrockers.org/event/grandad-bluff-park-5/
LOCATION:Granddad Bluff Park\, 3020 Grandad Bluff Rd\, La Crosse\, WI\, 54601\, United States
CATEGORIES:Countdown - Grandad Bluff
END:VEVENT
BEGIN:VEVENT
DTSTART;VALUE=DATE:20241209
DTEND;VALUE=DATE:20241210
DTSTAMP:20260421T051738
CREATED:20241117T194705Z
LAST-MODIFIED:20241117T194705Z
UID:1527-1733702400-1733788799@skyrockers.org
SUMMARY:Pettibone Park
DESCRIPTION:
URL:https://skyrockers.org/event/pettibone-park-5/
LOCATION:Pettibone Park\, 700 N Pettibone Dr\, La Crosse\, WI\, 54601\, United States
CATEGORIES:Countdown - Grandad Bluff
END:VEVENT
BEGIN:VEVENT
DTSTART;TZID=America/Chicago:20241208T180200
DTEND;TZID=America/Chicago:20241208T180200
DTSTAMP:20260421T051738
CREATED:20241206T204102Z
LAST-MODIFIED:20241206T221322Z
UID:1621-1733680920-1733680920@skyrockers.org
SUMMARY:Simpson
DESCRIPTION:2 shots
URL:https://skyrockers.org/event/simpson/
LOCATION:Granddad Bluff Park\, 3020 Grandad Bluff Rd\, La Crosse\, WI\, 54601\, United States
CATEGORIES:Countdown - Grandad Bluff
END:VEVENT
BEGIN:VEVENT
DTSTART;TZID=America/Chicago:20241208T180000
DTEND;TZID=America/Chicago:20241208T180500
DTSTAMP:20260421T051738
CREATED:20241206T202315Z
LAST-MODIFIED:20241206T203904Z
UID:1618-1733680800-1733681100@skyrockers.org
SUMMARY:Link
DESCRIPTION:6 shots
URL:https://skyrockers.org/event/link/
LOCATION:Granddad Bluff Park\, 3020 Grandad Bluff Rd\, La Crosse\, WI\, 54601\, United States
CATEGORIES:Countdown - Grandad Bluff
END:VEVENT
BEGIN:VEVENT
DTSTART;VALUE=DATE:20241208
DTEND;VALUE=DATE:20241209
DTSTAMP:20260421T051738
CREATED:20241117T194625Z
LAST-MODIFIED:20241117T194625Z
UID:1525-1733616000-1733702399@skyrockers.org
SUMMARY:Grandad Bluff Park
DESCRIPTION:
URL:https://skyrockers.org/event/grandad-bluff-park-4/
LOCATION:Granddad Bluff Park\, 3020 Grandad Bluff Rd\, La Crosse\, WI\, 54601\, United States
CATEGORIES:Countdown - Grandad Bluff
END:VEVENT
BEGIN:VEVENT
DTSTART;TZID=America/Chicago:20241207T180000
DTEND;TZID=America/Chicago:20241207T180500
DTSTAMP:20260421T051738
CREATED:20241129T144147Z
LAST-MODIFIED:20241129T144227Z
UID:1596-1733594400-1733594700@skyrockers.org
SUMMARY:Private
DESCRIPTION:1 Shot
URL:https://skyrockers.org/event/private/
LOCATION:Pettibone Park\, 700 N Pettibone Dr\, La Crosse\, WI\, 54601\, United States
CATEGORIES:Countdown - Grandad Bluff
END:VEVENT
BEGIN:VEVENT
DTSTART;VALUE=DATE:20241207
DTEND;VALUE=DATE:20241208
DTSTAMP:20260421T051738
CREATED:20241117T194553Z
LAST-MODIFIED:20241117T194553Z
UID:1523-1733529600-1733615999@skyrockers.org
SUMMARY:Pettibone Park
DESCRIPTION:
URL:https://skyrockers.org/event/pettibone-park-4/
LOCATION:Pettibone Park\, 700 N Pettibone Dr\, La Crosse\, WI\, 54601\, United States
CATEGORIES:Countdown - Grandad Bluff
END:VEVENT
BEGIN:VEVENT
DTSTART;VALUE=DATE:20241206
DTEND;VALUE=DATE:20241207
DTSTAMP:20260421T051738
CREATED:20241117T194513Z
LAST-MODIFIED:20241117T194513Z
UID:1521-1733443200-1733529599@skyrockers.org
SUMMARY:Grandad Bluff Park
DESCRIPTION:
URL:https://skyrockers.org/event/grandad-bluff-park-3/
LOCATION:Granddad Bluff Park\, 3020 Grandad Bluff Rd\, La Crosse\, WI\, 54601\, United States
CATEGORIES:Countdown - Grandad Bluff
END:VEVENT
BEGIN:VEVENT
DTSTART;VALUE=DATE:20241205
DTEND;VALUE=DATE:20241206
DTSTAMP:20260421T051738
CREATED:20241117T194421Z
LAST-MODIFIED:20241117T194421Z
UID:1519-1733356800-1733443199@skyrockers.org
SUMMARY:Pettibone Park
DESCRIPTION:
URL:https://skyrockers.org/event/pettibone-park-3/
LOCATION:Pettibone Park\, 700 N Pettibone Dr\, La Crosse\, WI\, 54601\, United States
CATEGORIES:Countdown - Grandad Bluff
END:VEVENT
BEGIN:VEVENT
DTSTART;VALUE=DATE:20241204
DTEND;VALUE=DATE:20241205
DTSTAMP:20260421T051738
CREATED:20241117T194221Z
LAST-MODIFIED:20241117T194249Z
UID:1517-1733270400-1733356799@skyrockers.org
SUMMARY:Pettibone Park
DESCRIPTION:
URL:https://skyrockers.org/event/pettibone-park-2/
LOCATION:Pettibone Park\, 700 N Pettibone Dr\, La Crosse\, WI\, 54601\, United States
CATEGORIES:Countdown - Grandad Bluff
END:VEVENT
BEGIN:VEVENT
DTSTART;TZID=America/Chicago:20241203T180000
DTEND;TZID=America/Chicago:20241203T180500
DTSTAMP:20260421T051738
CREATED:20241117T193553Z
LAST-MODIFIED:20241117T193553Z
UID:1507-1733248800-1733249100@skyrockers.org
SUMMARY:Gelatt
DESCRIPTION:6 shots
URL:https://skyrockers.org/event/gelatt/
LOCATION:Granddad Bluff Park\, 3020 Grandad Bluff Rd\, La Crosse\, WI\, 54601\, United States
CATEGORIES:Countdown - Grandad Bluff
END:VEVENT
BEGIN:VEVENT
DTSTART;VALUE=DATE:20241203
DTEND;VALUE=DATE:20241204
DTSTAMP:20260421T051738
CREATED:20241117T194108Z
LAST-MODIFIED:20241117T194108Z
UID:1515-1733184000-1733270399@skyrockers.org
SUMMARY:Grandad Bluff Park
DESCRIPTION:
URL:https://skyrockers.org/event/grandad-bluff-park-2/
LOCATION:Granddad Bluff Park\, 3020 Grandad Bluff Rd\, La Crosse\, WI\, 54601\, United States
CATEGORIES:Countdown - Grandad Bluff
END:VEVENT
BEGIN:VEVENT
DTSTART;VALUE=DATE:20241202
DTEND;VALUE=DATE:20241203
DTSTAMP:20260421T051738
CREATED:20241117T194024Z
LAST-MODIFIED:20241117T194024Z
UID:1512-1733097600-1733183999@skyrockers.org
SUMMARY:Pettibone Park
DESCRIPTION:
URL:https://skyrockers.org/event/pettibone-park/
LOCATION:Pettibone Park\, 700 N Pettibone Dr\, La Crosse\, WI\, 54601\, United States
CATEGORIES:Countdown - Grandad Bluff
END:VEVENT
BEGIN:VEVENT
DTSTART;VALUE=DATE:20241201
DTEND;VALUE=DATE:20241202
DTSTAMP:20260421T051738
CREATED:20241117T193749Z
LAST-MODIFIED:20241117T193749Z
UID:1510-1733011200-1733097599@skyrockers.org
SUMMARY:Grandad Bluff Park
DESCRIPTION:
URL:https://skyrockers.org/event/grandad-bluff-park/
LOCATION:Granddad Bluff Park\, 3020 Grandad Bluff Rd\, La Crosse\, WI\, 54601\, United States
CATEGORIES:Countdown - Grandad Bluff
END:VEVENT
END:VCALENDAR