BEGIN:VCALENDAR
VERSION:2.0
PRODID:-//La Crosse Skyrockers - ECPv6.15.17.1//NONSGML v1.0//EN
CALSCALE:GREGORIAN
METHOD:PUBLISH
X-WR-CALNAME:La Crosse Skyrockers
X-ORIGINAL-URL:https://skyrockers.org
X-WR-CALDESC:Events for La Crosse Skyrockers
REFRESH-INTERVAL;VALUE=DURATION:PT1H
X-Robots-Tag:noindex
X-PUBLISHED-TTL:PT1H
BEGIN:VTIMEZONE
TZID:America/Chicago
BEGIN:DAYLIGHT
TZOFFSETFROM:-0600
TZOFFSETTO:-0500
TZNAME:CDT
DTSTART:20240310T080000
END:DAYLIGHT
BEGIN:STANDARD
TZOFFSETFROM:-0500
TZOFFSETTO:-0600
TZNAME:CST
DTSTART:20241103T070000
END:STANDARD
BEGIN:DAYLIGHT
TZOFFSETFROM:-0600
TZOFFSETTO:-0500
TZNAME:CDT
DTSTART:20250309T080000
END:DAYLIGHT
BEGIN:STANDARD
TZOFFSETFROM:-0500
TZOFFSETTO:-0600
TZNAME:CST
DTSTART:20251102T070000
END:STANDARD
BEGIN:DAYLIGHT
TZOFFSETFROM:-0600
TZOFFSETTO:-0500
TZNAME:CDT
DTSTART:20260308T080000
END:DAYLIGHT
BEGIN:STANDARD
TZOFFSETFROM:-0500
TZOFFSETTO:-0600
TZNAME:CST
DTSTART:20261101T070000
END:STANDARD
BEGIN:DAYLIGHT
TZOFFSETFROM:-0600
TZOFFSETTO:-0500
TZNAME:CDT
DTSTART:20270314T080000
END:DAYLIGHT
BEGIN:STANDARD
TZOFFSETFROM:-0500
TZOFFSETTO:-0600
TZNAME:CST
DTSTART:20271107T070000
END:STANDARD
END:VTIMEZONE
BEGIN:VEVENT
DTSTART;TZID=America/Chicago:20251226T180500
DTEND;TZID=America/Chicago:20251226T180500
DTSTAMP:20260423T011446
CREATED:20251226T155253Z
LAST-MODIFIED:20251226T155253Z
UID:1885-1766772300-1766772300@skyrockers.org
SUMMARY:Burke
DESCRIPTION:2 Shots
URL:https://skyrockers.org/event/burke/
LOCATION:Granddad Bluff Park\, 3020 Grandad Bluff Rd\, La Crosse\, WI\, 54601\, United States
CATEGORIES:Countdown - Grandad Bluff
END:VEVENT
BEGIN:VEVENT
DTSTART;VALUE=DATE:20251227
DTEND;VALUE=DATE:20251228
DTSTAMP:20260423T011446
CREATED:20251120T212934Z
LAST-MODIFIED:20251129T230843Z
UID:1791-1766793600-1766879999@skyrockers.org
SUMMARY:Pettibone Park
DESCRIPTION:
URL:https://skyrockers.org/event/pettibone-park-29/
LOCATION:Pettibone Park\, 700 N Pettibone Dr\, La Crosse\, WI\, 54601\, United States
CATEGORIES:Countdown - Pettibone Park
END:VEVENT
BEGIN:VEVENT
DTSTART;TZID=America/Chicago:20251227T180000
DTEND;TZID=America/Chicago:20251227T180000
DTSTAMP:20260423T011446
CREATED:20251126T025631Z
LAST-MODIFIED:20251205T020157Z
UID:1805-1766858400-1766858400@skyrockers.org
SUMMARY:Johnson/McCormic
DESCRIPTION:4 shots
URL:https://skyrockers.org/event/johnson-mccormic/
LOCATION:Pettibone Park\, 700 N Pettibone Dr\, La Crosse\, WI\, 54601\, United States
CATEGORIES:Countdown - Pettibone Park
END:VEVENT
BEGIN:VEVENT
DTSTART;VALUE=DATE:20251228
DTEND;VALUE=DATE:20251229
DTSTAMP:20260423T011446
CREATED:20251120T213033Z
LAST-MODIFIED:20251120T213033Z
UID:1793-1766880000-1766966399@skyrockers.org
SUMMARY:Grandad Bluff
DESCRIPTION:
URL:https://skyrockers.org/event/grandad-bluff-13/
LOCATION:Granddad Bluff Park\, 3020 Grandad Bluff Rd\, La Crosse\, WI\, 54601\, United States
CATEGORIES:Countdown - Grandad Bluff
END:VEVENT
BEGIN:VEVENT
DTSTART;TZID=America/Chicago:20251228T180000
DTEND;TZID=America/Chicago:20251228T180000
DTSTAMP:20260423T011446
CREATED:20251214T204304Z
LAST-MODIFIED:20251214T204304Z
UID:1859-1766944800-1766944800@skyrockers.org
SUMMARY:Robeson
DESCRIPTION:3 shots
URL:https://skyrockers.org/event/robeson/
LOCATION:Granddad Bluff Park\, 3020 Grandad Bluff Rd\, La Crosse\, WI\, 54601\, United States
CATEGORIES:Countdown - Grandad Bluff
END:VEVENT
BEGIN:VEVENT
DTSTART;TZID=America/Chicago:20251228T180400
DTEND;TZID=America/Chicago:20251228T180400
DTSTAMP:20260423T011446
CREATED:20251222T005627Z
LAST-MODIFIED:20251222T005807Z
UID:1876-1766945040-1766945040@skyrockers.org
SUMMARY:Harter
DESCRIPTION:6 shots
URL:https://skyrockers.org/event/harter/
LOCATION:Granddad Bluff Park\, 3020 Grandad Bluff Rd\, La Crosse\, WI\, 54601\, United States
CATEGORIES:Countdown - Grandad Bluff
END:VEVENT
BEGIN:VEVENT
DTSTART;VALUE=DATE:20251229
DTEND;VALUE=DATE:20251230
DTSTAMP:20260423T011446
CREATED:20251120T213214Z
LAST-MODIFIED:20251129T230723Z
UID:1795-1766966400-1767052799@skyrockers.org
SUMMARY:Pettibone Park
DESCRIPTION:
URL:https://skyrockers.org/event/pettibone-park-30/
LOCATION:Pettibone Park\, 700 N Pettibone Dr\, La Crosse\, WI\, 54601\, United States
CATEGORIES:Countdown - Pettibone Park
END:VEVENT
BEGIN:VEVENT
DTSTART;TZID=America/Chicago:20251229T180000
DTEND;TZID=America/Chicago:20251229T180000
DTSTAMP:20260423T011446
CREATED:20251218T014627Z
LAST-MODIFIED:20251229T012646Z
UID:1865-1767031200-1767031200@skyrockers.org
SUMMARY:Fell
DESCRIPTION:6 Shots
URL:https://skyrockers.org/event/fell/
LOCATION:Pettibone Park\, 700 N Pettibone Dr\, La Crosse\, WI\, 54601\, United States
CATEGORIES:Countdown - Pettibone Park
END:VEVENT
BEGIN:VEVENT
DTSTART;VALUE=DATE:20251230
DTEND;VALUE=DATE:20251231
DTSTAMP:20260423T011446
CREATED:20251120T213308Z
LAST-MODIFIED:20251120T213308Z
UID:1797-1767052800-1767139199@skyrockers.org
SUMMARY:Grandad Bluff
DESCRIPTION:
URL:https://skyrockers.org/event/grandad-bluff-14/
LOCATION:Granddad Bluff Park\, 3020 Grandad Bluff Rd\, La Crosse\, WI\, 54601\, United States
CATEGORIES:Countdown - Grandad Bluff
END:VEVENT
BEGIN:VEVENT
DTSTART;TZID=America/Chicago:20251230T180000
DTEND;TZID=America/Chicago:20251230T180000
DTSTAMP:20260423T011446
CREATED:20251202T014427Z
LAST-MODIFIED:20251203T183920Z
UID:1821-1767117600-1767117600@skyrockers.org
SUMMARY:Sampson
DESCRIPTION:8+ shots
URL:https://skyrockers.org/event/sampson-2/
LOCATION:Granddad Bluff Park\, 3020 Grandad Bluff Rd\, La Crosse\, WI\, 54601\, United States
CATEGORIES:Countdown - Grandad Bluff
END:VEVENT
BEGIN:VEVENT
DTSTART;TZID=America/Chicago:20251231T180000
DTEND;TZID=America/Chicago:20251231T182000
DTSTAMP:20260423T011446
CREATED:20241116T232758Z
LAST-MODIFIED:20250601T040610Z
UID:1485-1767204000-1767205200@skyrockers.org
SUMMARY:6pm NYE Fireworks Show
DESCRIPTION:
URL:https://skyrockers.org/event/6pm-nye-fireworks-show/
LOCATION:Granddad Bluff Park\, 3020 Grandad Bluff Rd\, La Crosse\, WI\, 54601\, United States
CATEGORIES:Fireworks Shoot
END:VEVENT
BEGIN:VEVENT
DTSTART;TZID=America/Chicago:20251231T235900
DTEND;TZID=America/Chicago:20260101T002000
DTSTAMP:20260423T011446
CREATED:20241116T232908Z
LAST-MODIFIED:20250601T040659Z
UID:1487-1767225540-1767226800@skyrockers.org
SUMMARY:NYE Fireworks Show
DESCRIPTION:
URL:https://skyrockers.org/event/nye-fireworks-show/
LOCATION:Granddad Bluff Park\, 3020 Grandad Bluff Rd\, La Crosse\, WI\, 54601\, United States
CATEGORIES:Fireworks Shoot
END:VEVENT
BEGIN:VEVENT
DTSTART;TZID=America/Chicago:20260421T170000
DTEND;TZID=America/Chicago:20260421T200000
DTSTAMP:20260423T011446
CREATED:20260122T041730Z
LAST-MODIFIED:20260122T041730Z
UID:1906-1776790800-1776801600@skyrockers.org
SUMMARY:Annual Meeting
DESCRIPTION:
URL:https://skyrockers.org/event/2026-annual-meeting/
LOCATION:WI
CATEGORIES:Meeting
END:VEVENT
BEGIN:VEVENT
DTSTART;TZID=America/Chicago:20260627T214500
DTEND;TZID=America/Chicago:20260627T220500
DTSTAMP:20260423T011446
CREATED:20260423T023641Z
LAST-MODIFIED:20260423T023641Z
UID:1915-1782596700-1782597900@skyrockers.org
SUMMARY:Celebrate Onalaska
DESCRIPTION:Join us for one of the best fireworks displays in the Coulee Region! The La Crosse Skyrockers will light up the night sky thanks to Festival Foods. Bring your chairs and blankets and enjoy the show!
URL:https://skyrockers.org/event/celebrate-onalaska/
LOCATION:Van Ripper Park\, 255 Riders Club Road\, Onalaska\, WI\, 54650\, United States
END:VEVENT
BEGIN:VEVENT
DTSTART;TZID=America/Chicago:20260704T214000
DTEND;TZID=America/Chicago:20260704T220500
DTSTAMP:20260423T011446
CREATED:20260423T023819Z
LAST-MODIFIED:20260423T023819Z
UID:1917-1783201200-1783202700@skyrockers.org
SUMMARY:2026 Chad Erickson Memorial Fireworks Extravaganza
DESCRIPTION:
URL:https://skyrockers.org/event/2026-chad-erickson-memorial-fireworks-extravaganza/
LOCATION:Pettibone Park\, 700 N Pettibone Dr\, La Crosse\, WI\, 54601\, United States
END:VEVENT
END:VCALENDAR